Workbook

Sheet Planilia Atualizada
A1: PREFEITURA MUNICIPAL DE NOVORIZONTE
A2: ESTADO DE MINAS GERAIS
A3: OBRA: | B3: CONSTRUÇÃO DO PÓRTICO DE ENTRADA DO MUNICÍPIO | G3: DATA: | H3: 44007
A4: LOCAL: | B4: RODOVIA NOVORIZONTE/SALINAS - ZONA RURAL - NOVORIZONTE/MG | G4: BDI: | H4: 0.209
A5: Itens | B5: Ref. | C5: Descrição | D5: Und | E5: Quant | F5: P. unit. s/ BDI | G5: P. unit. c/ BDI | H5: Total
A6: 1 | C6: SERVIÇOS PRELIMINARES
A7: 1.1 | B7: IIO-PLA-005 | C7: FORNECIMENTO E COLOCAÇÃO DE PLACA DE OBRA EM CHAPA GALVANIZADA (2,00 X 1,00 M) - EM CHAPA GALVANIZADA 0,26 AFIXADAS COM REBITES 540 E PARAFUSOS 3/8, EM ESTRUTURA METÁLICA VIGA U 2" ENRIJECIDA COM METALON 20X20, SUPORTE EM EUCALIPTO AUTOCLAVADO PINTADAS | D7: Und | E7: ='MEMÓRIA DE CÁLCULO'!I3 -> 1 | F7: 483.23 | G7: =ROUND(F7*H$4+F7,2) -> 584.23 | H7: =ROUND(G7*E7,2) -> 584.23
A8: 1.2 | B8: IIO-BAR-046 | C8: BARRACÃO DE OBRA, EM CHAPA DE COMPENSADO RESINADO, INCLUSIVE INSTALAÇÕES SANITÁRIAS E MOBILIÁRIO - PADRÃO DEER-MG | D8: M2 | E8: ='MEMÓRIA DE CÁLCULO'!I4 -> 11 | F8: 325 | G8: =ROUND(F8*H$4+F8,2) -> 392.93 | H8: =ROUND(G8*E8,2) -> 4322.23
A9: 1.3 | B9: ED-9077 | C9: MONTAGEM E DESMONTAGEM DE ANDAIME METÁLICO TUBULAR TIPO TORRE, EXCLUSIVE FORNECIMENTO DO ANDAIME | D9: M | E9: ='MEMÓRIA DE CÁLCULO'!I5 -> 38 | F9: 7.4 | G9: =ROUND(F9*H$4+F9,2) -> 8.95 | H9: =ROUND(G9*E9,2) -> 340.1
A10: 1.5 | B10: LOC-OBR-005 | C10: LOCAÇÃO DA OBRA (GABARITO) | D10: M2 | E10: ='MEMÓRIA DE CÁLCULO'!I6 -> 120 | F10: 6 | G10: =ROUND(F10*H$4+F10,2) -> 7.25 | H10: =ROUND(G10*E10,2) -> 870
E11: TOTAL | H11: =SUM(H7:H10) -> 6116.56
A12: 2 | C12: MOVIMENTO DE TERRA
A13: 2.1 | B13: TER-ESC-035 | C13: ESCAVAÇÃO MANUAL DE VALAS H <= 1,50 M | D13: M3 | E13: ='MEMÓRIA DE CÁLCULO'!I8 -> 4.352 | F13: 44.2 | G13: =ROUND(F13*H$4+F13,2) -> 53.44 | H13: =ROUND(G13*E13,2) -> 232.57
A14: 2.2 | B14: FUN-TRA-045 | C14: PERFURAÇÃO DE ESTACA BROCA A TRADO MECANIZADO D=400MM | D14: M | E14: ='MEMÓRIA DE CÁLCULO'!I9 -> 42 | F14: 37.5 | G14: =ROUND(F14*H$4+F14,2) -> 45.34 | H14: =ROUND(G14*E14,2) -> 1904.28
A15: 2.3 | B15: TER-REG-005 | C15: REGULARIZAÇÃO E COMPACTAÇÃO DE TERRENO MANUAL, COM SOQUETE | D15: M2 | E15: ='MEMÓRIA DE CÁLCULO'!I10 -> 6.24 | F15: 6.9 | G15: =ROUND(F15*H$4+F15,2) -> 8.34 | H15: =ROUND(G15*E15,2) -> 52.04
E16: TOTAL | H16: =SUM(H12:H15) -> 2188.89
A17: 3 | C17: FUNDAÇÕES
A18: 3.1 | B18: 96619 | C18: LASTRO DE CONCRETO MAGRO, APLICADO EM BLOCOS DE COROAMENTO OU SAPATAS, ESPESSURA DE 5 CM. AF_08/2017 | D18: M2 | E18: ='MEMÓRIA DE CÁLCULO'!I12 -> 6.24 | F18: 20.5 | G18: =ROUND(F18*H$4+F18,2) -> 24.78 | H18: =ROUND(G18*E18,2) -> 154.63
A19: 3.2 | B19: FUN-FOR-005 | C19: FORMA E DESFORMA EM TÁBUAS DE PINHO (3X) | D19: M2 | E19: ='MEMÓRIA DE CÁLCULO'!I13 -> 28.16 | F19: 39.5 | G19: =ROUND(F19*H$4+F19,2) -> 47.76 | H19: =ROUND(G19*E19,2) -> 1344.92
A20: 3.3 | B20: =B27 -> ARM-AÇO-020 | C20: =C27 -> CORTE, DOBRA E ARMAÇÃO DE AÇO CA-50/60 | D20: KG | E20: ='MEMÓRIA DE CÁLCULO'!I14 -> 577.8 | F20: 7.2 | G20: =ROUND(F20*H$4+F20,2) -> 8.7 | H20: =ROUND(G20*E20,2) -> 5026.86
A21: 3.4 | B21: ED-8486 | C21: CONCRETO ESTRUTURAL, PREPARADO EM OBRA COM BETONEIRA, CONTROL"A",COM FCK 20 MPA, BRITA Nº (1 E 2), CONSISTÊNCIA PARA VIBRAÇÃO (FABRICAÇÃO) | D21: M3 | E21: ='MEMÓRIA DE CÁLCULO'!I15 -> 9.6272 | F21: 314.18 | G21: =ROUND(F21*H$4+F21,2) -> 379.84 | H21: =ROUND(G21*E21,2) -> 3656.8
A22: 3.5 | B22: ED-8504 | C22: LANÇAMENTO DE CONCRETO EM ESTRUTURA, INCLUSIVE TRANSPORTE ATÉ O LOCAL DE APLICAÇÃO, EXCLUSIVE APLICAÇÃO | D22: M3 | E22: ='MEMÓRIA DE CÁLCULO'!I16 -> 9.6272 | F22: 65.7 | G22: =ROUND(F22*H$4+F22,2) -> 79.43 | H22: =ROUND(G22*E22,2) -> 764.69
A23: 3.6 | B23: 74106/001 | C23: IMPERMEABILIZACAO DE ESTRUTURAS ENTERRADAS, COM TINTA ASFALTICA, DUAS DEMAOS. | D23: M2 | E23: ='MEMÓRIA DE CÁLCULO'!I17 -> 5.44 | F23: 9.2 | G23: =ROUND(F23*H$4+F23,2) -> 11.12 | H23: =ROUND(G23*E23,2) -> 60.49
E24: TOTAL | H24: =SUM(H18:H23) -> 11008.39
A25: 4 | C25: ESTRUTURA
A26: 4.1 | B26: 92263 | C26: FABRICAÇÃO DE FÔRMA PARA PILARES E ESTRUTURAS SIMILARES, EM CHAPA DE MADEIRA COMPENSADA RESINADA, E = 17 MM. AF_12/2015 | D26: M2 | E26: ='MEMÓRIA DE CÁLCULO'!I19 -> 69.88 | F26: 74.6 | G26: =ROUND(F26*H$4+F26,2) -> 90.19 | H26: =ROUND(G26*E26,2) -> 6302.48
A27: 4.2 | B27: ARM-AÇO-020 | C27: CORTE, DOBRA E ARMAÇÃO DE AÇO CA-50/60 | D27: KG | E27: ='MEMÓRIA DE CÁLCULO'!I20 -> 1603.2 | F27: =+F20 -> 7.2 | G27: =ROUND(F27*H$4+F27,2) -> 8.7 | H27: =ROUND(G27*E27,2) -> 13947.84
A28: 4.3 | B28: =B21 -> ED-8486 | C28: =C21 -> CONCRETO ESTRUTURAL, PREPARADO EM OBRA COM BETONEIRA, CONTROL"A",COM FCK 20 MPA, BRITA Nº (1 E 2), CONSISTÊNCIA PARA VIBRAÇÃO (FABRICAÇÃO) | D28: M3 | E28: ='MEMÓRIA DE CÁLCULO'!I21 -> 26.716 | F28: =F21 -> 314.18 | G28: =ROUND(F28*H$4+F28,2) -> 379.84 | H28: =ROUND(G28*E28,2) -> 10147.81
A29: 4.4 | B29: 74157/004 | C29: LANÇAMENTO E ADENSAMENTO DE CONCRETO | D29: M3 | E29: ='MEMÓRIA DE CÁLCULO'!I22 -> 26.716 | F29: =+F22 -> 65.7 | G29: =ROUND(F29*H$4+F29,2) -> 79.43 | H29: =ROUND(G29*E29,2) -> 2122.05
E30: TOTAL | H30: =SUM(H26:H29) -> 32520.18
A31: 5 | C31: COBERTURA
A32: 5.1 | B32: EST-MET-005 | C32: FORNECIMENTO, FABRICAÇÃO, TRANSPORTE E MONTAGEM DE ESTRUTURA METÁLICA EM PERFIS LAMINADOS, INCLUSIVE PINTURA PRIMER | D32: KG | E32: ='MEMÓRIA DE CÁLCULO'!I24 -> 1400 | F32: 10.05 | G32: =ROUND(F32*H$4+F32,2) -> 12.15 | H32: =ROUND(G32*E32,2) -> 17010
A33: 5.2 | B33: SICRO 5213425 | C33: CONFECÇÃO DE PLACA EM ALUMÍNIO COMPOSTO DE 3 MM, MODULADA, AÉREA, COM PELÍCULA CONFORME PROJETO | D33: M2 | E33: ='MEMÓRIA DE CÁLCULO'!I25 -> 58.68 | F33: 391 | G33: =ROUND(F33*H$4+F33,2) -> 472.72 | H33: =ROUND(G33*E33,2) -> 27739.21
E34: TOTAL | H34: =SUM(H32:H33) -> 44749.21
A35: 6 | C35: PAREDES E PAINEIS
A36: 6.1 | B36: 87477 | C36: ALVENARIA DE VEDAÇÃO DE BLOCOS CERÂMICOS FURADOS NA VERTICAL DE 9X19X3 9CM (ESPESSURA 9CM) DE PAREDES COM ÁREA LÍQUIDA MAIOR OU IGUAL A 6M² SEM VÃOS E ARGAMASSA DE ASSENTAMENTO COM PREPARO EM BETONEIRA. AF_06/2014 | D36: M2 | E36: ='MEMÓRIA DE CÁLCULO'!I27 -> 138.84 | F36: 32.15 | G36: =ROUND(F36*H$4+F36,2) -> 38.87 | H36: =ROUND(G36*E36,2) -> 5396.71
E37: TOTAL | H37: =SUM(H36:H36) -> 5396.71
A38: 9 | C38: INSTALAÇÕES ELÉTRICAS
A39: 9.1 | B39: MERCADO | C39: KIT ENERGIA SOLAR FOTOVOLTAICA, COMPOSTO POR INVERSOR, PLACAS SOLARES, BATERIAS, CABOS, SISTEMA DE FIXAÇÃO E ELETRODUTOS | D39: =D41 -> UN | F39: 16500 | G39: =ROUND(F39*H$4+F39,2) -> 19948.5 | H39: =ROUND(G39*E39,2) -> 0
A40: 9.3 | B40: *INST-LUZ-005 | C40: PONTO DE LUZ EMBUTIDO, INCLUINDO ELETRODUTO DE PVC RÍGIDO E CAIXA COM ESPELHO (POR UNIDADE) | D40: PT | F40: 88.53 | G40: =ROUND(F40*H$4+F40,2) -> 107.03 | H40: =ROUND(G40*E40,2) -> 0
A41: 9.8 | B41: 74131/001 | C41: QUADRO DE DISTRIBUICAO DE ENERGIA DE EMBUTIR, EM CHAPA METALICA, PARA 3 DISJUNTORES TERMOMAGNETICOS MONOPOLARES SEM BARRAMENTO FORNECIMENTO E INSTALACAO | D41: UN | F41: 54 | G41: =ROUND(F41*H$4+F41,2) -> 65.29 | H41: =ROUND(G41*E41,2) -> 0
A42: 9.10 | B42: 83443 | C42: CAIXA DE PASSAGEM 20X20X25 FUNDO BRITA COM TAMPA | D42: UN | F42: 29.38 | G42: =ROUND(F42*H$4+F42,2) -> 35.52 | H42: =ROUND(G42*E42,2) -> 0
B43: 96985 | C43: HASTE DE ATERRAMENTO 5/8 PARA SPDA - FORNECIMENTO E INSTALAÇÃO AF_12/2017 | D43: UN | F43: 42.6 | G43: =ROUND(F43*H$4+F43,2) -> 51.5 | H43: =ROUND(G43*E43,2) -> 0
A44: 9.12 | B44: 74130/001 | C44: DISJUNTOR TERMOMAGNETICO MONOPOLAR PADRAO NEMA (AMERICANO) 10 A 30A 240V, FORNECIMENTO E INSTALACAO | D44: UN | F44: 8.33 | G44: =ROUND(F44*H$4+F44,2) -> 10.07 | H44: =ROUND(G44*E44,2) -> 0
A45: 9.13 | B45: 74130/003 | C45: DISJUNTOR TERMOMAGNETICO BIPOLAR PADRAO NEMA (AMERICANO) 10 A 50A 240V, FORNECIMENTO E INSTALACAO | D45: UN | F45: 85.6 | G45: =ROUND(F45*H$4+F45,2) -> 103.49 | H45: =ROUND(G45*E45,2) -> 0
A46: 9.18 | B46: 74246/001 | C46: PROJETOR LED INDUSTRIAL MODELO OULSE LEDRFL 135-B5-002 135w, 5000k - 50.000H - 220 V - LENTE 90 - IP67 | D46: UN | F46: 1500 | G46: =ROUND(F46*H$4+F46,2) -> 1813.5 | H46: =ROUND(G46*E46,2) -> 0
E48: =#REF! -> #REF! | H48: =SUM(H39:H47) -> 0
A50: 7 | C50: INSTALAÇÕES ELETRICAS
A51: 7.1 | C51: REFLETOR LED COM SUPORTE PARA FACHADA 200 WATTS C/ SUPORTE | D51: UN | E51: ='MEMÓRIA DE CÁLCULO'!I29 -> 5 | F51: 302.5 | G51: =ROUND(F51*H$4+F51,2) -> 365.72 | H51: =ROUND(G51*E51,2) -> 1828.6
E52: TOTAL | H52: =SUM(H51) -> 1828.6
A53: 8 | C53: REVESTIMENTOS
A54: 8.1 | B54: 87879 | C54: CHAPISCO APLICADO EM ALVENARIAS E ESTRUTURAS DE CONCRETO INTERNAS, COM COLHER DE PEDREIRO. ARGAMASSA TRAÇO 1:3 COM PREPARO EM BETONEIRA 400 L. AF_06/2014 | D54: M2 | E54: ='MEMÓRIA DE CÁLCULO'!I31 -> 145.88 | F54: 2.8 | G54: =ROUND(F54*H$4+F54,2) -> 3.39 | H54: =ROUND(G54*E54,2) -> 494.53
A55: 8.2 | B55: 87529 | C55: MASSA ÚNICA, PARA RECEBIMENTO DE PINTURA, EM ARGAMASSA TRAÇO 1:2:8, PREPARO MECÂNICO COM BETONEIRA 400L, APLICADA MANUALMENTE EM FACES INTERNAS DE PAREDES, ESPESSURA DE 20MM, COM EXECUÇÃO DE TALISCAS. AF_06/2014 | D55: M2 | E55: ='MEMÓRIA DE CÁLCULO'!I32 -> 145.88 | F55: 23 | G55: =ROUND(F55*H$4+F55,2) -> 27.81 | H55: =ROUND(G55*E55,2) -> 4056.92
A56: 8.3 | B56: ED-9081 | C56: REVESTIMENTO COM PORCELANATO APLICADO EM PAREDE, ACABAMENTO MADEIRA, AMBIENTE EXTERNO, PADRÃO EXTRA, DIMENSÃO DA PEÇA ATÉ 2025 CM2, PEI III, ASSENTAMENTO COM ARGAMASSA INDUSTRIALIZADA, INCLUSIVE REJUNTAMENTO | D56: M2 | E56: ='MEMÓRIA DE CÁLCULO'!I33 -> 145.88 | F56: 44.5 | G56: =ROUND(F56*H$4+F56,2) -> 53.8 | H56: =ROUND(G56*E56,2) -> 7848.34
E57: TOTAL | H57: =SUM(H54:H56) -> 12399.79
A58: 9 | C58: PINTURA
A59: 9.1 | B59: PIN-TRA-005 | C59: TRATAMENTO EM SUPERFÍCIE DE CONCRETO APARENTE, INCLUSIVE RASPAGEM, ESTUCAGEM E POLIMENTO COM DUAS (2) DEMÃOS DE RESINA ACRÍLICA | D59: M2 | E59: ='MEMÓRIA DE CÁLCULO'!I35 -> 53.2 | F59: 29.5 | G59: =ROUND(F59*H$4+F59,2) -> 35.67 | H59: =ROUND(G59*E59,2) -> 1897.64
E60: TOTAL | H60: =SUM(H59:H59) -> 1897.64
A61: 10 | C61: SERVIÇOS COMPLEMENTARES
A62: 10.1 | B62: PAI-GRA-005 | C62: PLANTIO DE GRAMA BATATAIS EM PLACAS, INCLUSIVE TERRA VEGETAL E CONSERVAÇÃO POR 30 DIAS | D62: M2 | E62: ='MEMÓRIA DE CÁLCULO'!I37 -> 8 | F62: 15.2 | G62: =ROUND(F62*H$4+F62,2) -> 18.38 | H62: =ROUND(G62*E62,2)+0.01 -> 147.05
A63: 10.2 | B63: PAI-MUD-060 | C63: FORNECIMENTO DE PALMEIRA ARECA LUTESCENS | D63: U | E63: ='MEMÓRIA DE CÁLCULO'!I38 -> 8 | F63: 22 | G63: =ROUND(F63*H$4+F63,2) -> 26.6 | H63: =ROUND(G63*E63,2) -> 212.8
A64: 10.3 | B64: PAI-COV-010 | C64: PLANTIO E PREPARO DE COVAS DE ARBUSTOS ORNAMENTAIS EM GERAL, EXCETO FORNECIMENTO DAS MUDAS | D64: U | E64: ='MEMÓRIA DE CÁLCULO'!I39 -> 6 | F64: 9 | G64: =ROUND(F64*H$4+F64,2) -> 10.88 | H64: =ROUND(G64*E64,2) -> 65.28
A65: 10.4 | B65: ED-14560 | C65: LASTRO DE SEIXO, INCLUSIVE LANÇAMENTO E ESPALHAMENTO MANUAL | D65: M3 | E65: ='MEMÓRIA DE CÁLCULO'!I40 -> 1 | F65: 115.32 | G65: =ROUND(F65*H$4+F65,2) -> 139.42 | H65: =ROUND(G65*E65,2) -> 139.42
A66: 10.5 | B66: 9537 | C66: LIMPEZA GERAL | D66: M2 | E66: ='MEMÓRIA DE CÁLCULO'!I41 -> 120 | F66: 1.5 | G66: =ROUND(F66*H$4+F66,2) -> 1.81 | H66: =ROUND(G66*E66,2) -> 217.2
E67: TOTAL | H67: =SUM(H62:H66) -> 781.75
A68: TOTAL GERAL COM B.D.I. | H68: =SUM(H6:H67)/2 -> 118887.72
A69: OBSERVAÇÕES: | C69: REFERÊNCIA TÉCNICA SINAPI OUT/19 E SETOP 11/19
A71: ='MEMÓRIA DE CÁLCULO'!A43 -> NOVORIZONTE-MG, 25/06/2020
A73: VINÍCIUS MODESTO COSTA MATOS - CREA: MG219.180/D ARLEY COSTA MENDES - PREFEITO MUNICIPAL

Sheet MEMÓRIA DE CÁLCULO
A1: MEMÓRIA DE CÁLCULO
A2: ='Planilia Atualizada'!C6 -> SERVIÇOS PRELIMINARES
A3: ='Planilia Atualizada'!C7 -> FORNECIMENTO E COLOCAÇÃO DE PLACA DE OBRA EM CHAPA GALVANIZADA (2,00 X 1,00 M) - EM CHAPA GALVANIZADA 0,26 AFIXADAS COM REBITES 540 E PARAFUSOS 3/8, EM ESTRUTURA METÁLICA VIGA U 2" ENRIJECIDA COM METALON 20X20, SUPORTE EM EUCALIPTO AUTOCLAVADO PINTADAS | D3: ='Planilia Atualizada'!D7 -> Und | E3: 1*1 | I3: 1
A4: ='Planilia Atualizada'!C8 -> BARRACÃO DE OBRA, EM CHAPA DE COMPENSADO RESINADO, INCLUSIVE INSTALAÇÕES SANITÁRIAS E MOBILIÁRIO - PADRÃO DEER-MG | D4: ='Planilia Atualizada'!D8 -> M2 | E4: 5*2,2 | I4: =5*2.2 -> 11
A5: ='Planilia Atualizada'!C9 -> MONTAGEM E DESMONTAGEM DE ANDAIME METÁLICO TUBULAR TIPO TORRE, EXCLUSIVE FORNECIMENTO DO ANDAIME | D5: ='Planilia Atualizada'!D9 -> M | E5: 9,5*4 | I5: =9.5*4 -> 38
A6: ='Planilia Atualizada'!C10 -> LOCAÇÃO DA OBRA (GABARITO) | D6: ='Planilia Atualizada'!D10 -> M2 | E6: 20*6 | I6: =20*6 -> 120
A7: ='Planilia Atualizada'!C12 -> MOVIMENTO DE TERRA
A8: ='Planilia Atualizada'!C13 -> ESCAVAÇÃO MANUAL DE VALAS H <= 1,50 M | D8: ='Planilia Atualizada'!D13 -> M3 | E8: 1,2*2,4*0,8+0,8*0,8*0,8*4 | I8: =1.2*2.4*0.8+0.8*0.8*0.8*4 -> 4.352
A9: ='Planilia Atualizada'!C14 -> PERFURAÇÃO DE ESTACA BROCA A TRADO MECANIZADO D=400MM | D9: ='Planilia Atualizada'!D14 -> M | E9: 7*6 | I9: =7*6 -> 42
A10: ='Planilia Atualizada'!C15 -> REGULARIZAÇÃO E COMPACTAÇÃO DE TERRENO MANUAL, COM SOQUETE | D10: ='Planilia Atualizada'!D15 -> M2 | E10: 1,2*2,4+0,8+0,8*0,8*4 | I10: =1.2*2.4+0.8+0.8*0.8*4 -> 6.24
A11: ='Planilia Atualizada'!C17 -> FUNDAÇÕES
A12: ='Planilia Atualizada'!C18 -> LASTRO DE CONCRETO MAGRO, APLICADO EM BLOCOS DE COROAMENTO OU SAPATAS, ESPESSURA DE 5 CM. AF_08/2017 | D12: ='Planilia Atualizada'!D18 -> M2 | E12: 1,2*2,4+0,8+0,8*0,8*4 | I12: =1.2*2.4+0.8+0.8*0.8*4 -> 6.24
A13: ='Planilia Atualizada'!C19 -> FORMA E DESFORMA EM TÁBUAS DE PINHO (3X) | D13: ='Planilia Atualizada'!D19 -> M2 | E13: 0,8*0,8*4*8+1,2*2,4*2+1,2*0,8*2 | I13: =0.8*0.8*4*8+1.2*2.4*2+1.2*0.8*2 -> 28.16
A14: ='Planilia Atualizada'!C20 -> CORTE, DOBRA E ARMAÇÃO DE AÇO CA-50/60 | D14: ='Planilia Atualizada'!D20 -> KG | E14: 9,63*60 | I14: =9.63*60 -> 577.8
A15: ='Planilia Atualizada'!C21 -> CONCRETO ESTRUTURAL, PREPARADO EM OBRA COM BETONEIRA, CONTROL"A",COM FCK 20 MPA, BRITA Nº (1 E 2), CONSISTÊNCIA PARA VIBRAÇÃO (FABRICAÇÃO) | D15: ='Planilia Atualizada'!D21 -> M3 | E15: 0,2*0,2*3,14*7*6+1,2*2,4*0,8+0,8*0,8*0,8*4 | I15: =0.2*0.2*3.14*7*6+1.2*2.4*0.8+0.8*0.8*0.8*4 -> 9.6272
A16: ='Planilia Atualizada'!C22 -> LANÇAMENTO DE CONCRETO EM ESTRUTURA, INCLUSIVE TRANSPORTE ATÉ O LOCAL DE APLICAÇÃO, EXCLUSIVE APLICAÇÃO | D16: ='Planilia Atualizada'!D22 -> M3 | E16: 0,2*0,2*3,14*7*6+1,2*2,4*0,8+0,8*0,8*0,8*4 | I16: =0.2*0.2*3.14*7*6+1.2*2.4*0.8+0.8*0.8*0.8*4 -> 9.6272
A17: ='Planilia Atualizada'!C23 -> IMPERMEABILIZACAO DE ESTRUTURAS ENTERRADAS, COM TINTA ASFALTICA, DUAS DEMAOS. | D17: ='Planilia Atualizada'!D23 -> M2 | E17: 0,4*3,4*4 | I17: =0.4*3.4*4 -> 5.44
A18: ='Planilia Atualizada'!C25 -> ESTRUTURA
A19: ='Planilia Atualizada'!C26 -> FABRICAÇÃO DE FÔRMA PARA PILARES E ESTRUTURAS SIMILARES, EM CHAPA DE MADEIRA COMPENSADA RESINADA, E = 17 MM. AF_12/2015 | D19: ='Planilia Atualizada'!D26 -> M2 | E19: (9,2*2+2,3*3)*2*0,4*2+13,3*2+1,4*2 | I19: =(9.2*2+2.3*3)*2*0.4*2+13.3*2+1.4*2 -> 69.88
A20: ='Planilia Atualizada'!C27 -> CORTE, DOBRA E ARMAÇÃO DE AÇO CA-50/60 | D20: ='Planilia Atualizada'!D27 -> KG | E20: 26,72*60 | I20: =26.72*60 -> 1603.2
A21: ='Planilia Atualizada'!C28 -> CONCRETO ESTRUTURAL, PREPARADO EM OBRA COM BETONEIRA, CONTROL"A",COM FCK 20 MPA, BRITA Nº (1 E 2), CONSISTÊNCIA PARA VIBRAÇÃO (FABRICAÇÃO) | D21: ='Planilia Atualizada'!D28 -> M3 | E21: (9,2*2+2,3*3)*2*0,4*0,4+13,3*1,4 | I21: =(9.2*2+2.3*3)*2*0.4*0.4+13.3*1.4 -> 26.716
A22: ='Planilia Atualizada'!C29 -> LANÇAMENTO E ADENSAMENTO DE CONCRETO | D22: ='Planilia Atualizada'!D29 -> M3 | E22: (9,2*2+2,3*3)*2*0,4*0,4+13,3*1,4[ | I22: =(9.2*2+2.3*3)*2*0.4*0.4+13.3*1.4 -> 26.716
A23: ='Planilia Atualizada'!C31 -> COBERTURA
A24: ='Planilia Atualizada'!C32 -> FORNECIMENTO, FABRICAÇÃO, TRANSPORTE E MONTAGEM DE ESTRUTURA METÁLICA EM PERFIS LAMINADOS, INCLUSIVE PINTURA PRIMER | D24: ='Planilia Atualizada'!D32 -> KG | E24: 140*2*5 | I24: =140*2*5 -> 1400
A25: ='Planilia Atualizada'!C33 -> CONFECÇÃO DE PLACA EM ALUMÍNIO COMPOSTO DE 3 MM, MODULADA, AÉREA, COM PELÍCULA CONFORME PROJETO | D25: ='Planilia Atualizada'!D33 -> M2 | E25: (11,5*1,8+0,8*13,5*0,8)*2 | I25: =+(11.5*1.8+0.8*13.5*0.8)*2 -> 58.68
A26: ='Planilia Atualizada'!C35 -> PAREDES E PAINEIS
A27: ='Planilia Atualizada'!C36 -> ALVENARIA DE VEDAÇÃO DE BLOCOS CERÂMICOS FURADOS NA VERTICAL DE 9X19X3 9CM (ESPESSURA 9CM) DE PAREDES COM ÁREA LÍQUIDA MAIOR OU IGUAL A 6M² SEM VÃOS E ARGAMASSA DE ASSENTAMENTO COM PREPARO EM BETONEIRA. AF_06/2014 | D27: ='Planilia Atualizada'!D36 -> M2 | E27: 32,87*4+9,2*0,2*4 | I27: =32.87*4+9.2*0.2*4 -> 138.84
A28: ='Planilia Atualizada'!C50 -> INSTALAÇÕES ELETRICAS
A29: ='Planilia Atualizada'!C51 -> REFLETOR LED COM SUPORTE PARA FACHADA 200 WATTS C/ SUPORTE | D29: ='Planilia Atualizada'!D51 -> UN | E29: 5*1 | I29: 5
A30: ='Planilia Atualizada'!C53 -> REVESTIMENTOS
A31: ='Planilia Atualizada'!C54 -> CHAPISCO APLICADO EM ALVENARIAS E ESTRUTURAS DE CONCRETO INTERNAS, COM COLHER DE PEDREIRO. ARGAMASSA TRAÇO 1:3 COM PREPARO EM BETONEIRA 400 L. AF_06/2014 | D31: ='Planilia Atualizada'!D54 -> M2 | E31: 31,87*4+9,2*0,5*4 | I31: =31.87*4+9.2*0.5*4 -> 145.88
A32: ='Planilia Atualizada'!C55 -> MASSA ÚNICA, PARA RECEBIMENTO DE PINTURA, EM ARGAMASSA TRAÇO 1:2:8, PREPARO MECÂNICO COM BETONEIRA 400L, APLICADA MANUALMENTE EM FACES INTERNAS DE PAREDES, ESPESSURA DE 20MM, COM EXECUÇÃO DE TALISCAS. AF_06/2014 | D32: ='Planilia Atualizada'!D55 -> M2 | E32: 31,87*4+9,2*0,5*4 | I32: =31.87*4+9.2*0.5*4 -> 145.88
A33: ='Planilia Atualizada'!C56 -> REVESTIMENTO COM PORCELANATO APLICADO EM PAREDE, ACABAMENTO MADEIRA, AMBIENTE EXTERNO, PADRÃO EXTRA, DIMENSÃO DA PEÇA ATÉ 2025 CM2, PEI III, ASSENTAMENTO COM ARGAMASSA INDUSTRIALIZADA, INCLUSIVE REJUNTAMENTO | D33: ='Planilia Atualizada'!D56 -> M2 | E33: 31,87*4+9,2*0,5*4 | I33: =31.87*4+9.2*0.5*4 -> 145.88
A34: ='Planilia Atualizada'!C58 -> PINTURA
A35: ='Planilia Atualizada'!C59 -> TRATAMENTO EM SUPERFÍCIE DE CONCRETO APARENTE, INCLUSIVE RASPAGEM, ESTUCAGEM E POLIMENTO COM DUAS (2) DEMÃOS DE RESINA ACRÍLICA | D35: ='Planilia Atualizada'!D59 -> M2 | E35: 13,3*2+9,5*1,4*2 | I35: =13.3*2+9.5*1.4*2 -> 53.2
A36: ='Planilia Atualizada'!C61 -> SERVIÇOS COMPLEMENTARES
A37: ='Planilia Atualizada'!C62 -> PLANTIO DE GRAMA BATATAIS EM PLACAS, INCLUSIVE TERRA VEGETAL E CONSERVAÇÃO POR 30 DIAS | D37: ='Planilia Atualizada'!D62 -> M2 | E37: 2*2*2 | I37: =2*2*2 -> 8
A38: ='Planilia Atualizada'!C63 -> FORNECIMENTO DE PALMEIRA ARECA LUTESCENS | D38: ='Planilia Atualizada'!D63 -> U | E38: 8*1 | I38: =8*1 -> 8
A39: ='Planilia Atualizada'!C64 -> PLANTIO E PREPARO DE COVAS DE ARBUSTOS ORNAMENTAIS EM GERAL, EXCETO FORNECIMENTO DAS MUDAS | D39: ='Planilia Atualizada'!D64 -> U | E39: 6*1 | I39: =6*1 -> 6
A40: ='Planilia Atualizada'!C65 -> LASTRO DE SEIXO, INCLUSIVE LANÇAMENTO E ESPALHAMENTO MANUAL | D40: ='Planilia Atualizada'!D65 -> M3 | E40: 1*1 | I40: =1 -> 1
A41: ='Planilia Atualizada'!C66 -> LIMPEZA GERAL | D41: ='Planilia Atualizada'!D66 -> M2 | E41: 120 | I41: 120
A43: ='[1]PLANILHA orçamentária'!A127 -> NOVORIZONTE-MG, 25/06/2020
E45: VINÍCIUS MODESTO COSTA MATOS
E46: ENG.CIVIL - CREA MG219.180/D

Sheet CRONOG ATUAL
A1: CRONOGRAMA FÍSICO FINANCEIRO
P2: =320*90 -> 28800
A3: =#REF! -> #REF! | B3: =+'Planilia Atualizada'!B3:E3 -> CONSTRUÇÃO DO PÓRTICO DE ENTRADA DO MUNICÍPIO | G3: PERÍODO | M3: =#REF! -> #REF! | P3: =42000/320 -> 131.25 | Q3: +
A4: =#REF! -> #REF! | B4: =+'Planilia Atualizada'!B4:E4 -> RODOVIA NOVORIZONTE/SALINAS - ZONA RURAL - NOVORIZONTE/MG | M4: =+'Planilia Atualizada'!H3 -> 44007
A5: ITEM | B5: DISCRIMINAÇÃO DOS SERVIÇOS | F5: VALOR | G5: MÊS 01 | H5: MÊS 02 | I5: MÊS 03 | J5: MÊS 04 | K5: MÊS 05 | L5: MÊS 06 | M5: SUB-TOTAL | O5: =+#REF!/'CRONOG ATUAL'!F8 -> #REF!
A6: 1 | B6: ='Planilia Atualizada'!C6 -> SERVIÇOS PRELIMINARES | F6: ='Planilia Atualizada'!H11 -> 6116.56 | G6: =$F6*G7 -> 6116.56 | H6: =$F6*H7 -> 0 | I6: =$F6*I7 -> 0 | K6: =$F6*K7 -> 0 | L6: =$F6*L7 -> 0 | M6: =IF(M7=100%,F6,0) -> 6116.56
G7: 1 | M7: =SUM(G7:L7) -> 1 | O7: =+#REF! -> #REF!
A8: 2 | B8: ='Planilia Atualizada'!C12 -> MOVIMENTO DE TERRA | F8: ='Planilia Atualizada'!H16 -> 2188.89 | G8: =$F8*G9 -> 2188.89 | H8: =$F8*H9 -> 0 | I8: =$F8*I9 -> 0 | K8: =$F8*K9 -> 0 | L8: =$F8*L9 -> 0 | M8: =IF(M9=100%,F8,0) -> 2188.89
G9: 1 | M9: =SUM(G9:L9) -> 1 | O9: =+#REF! -> #REF!
A10: 3 | B10: ='Planilia Atualizada'!C17 -> FUNDAÇÕES | F10: ='Planilia Atualizada'!H24 -> 11008.39 | G10: =$F10*G11 -> 11008.39 | H10: =$F10*H11 -> 0 | I10: =$F10*I11 -> 0 | L10: =$F10*L11 -> 0 | M10: =IF(M11=100%,F10,0) -> 11008.39
G11: 1 | M11: =SUM(G11:L11) -> 1 | O11: =+#REF! -> #REF!
A12: 4 | B12: ='Planilia Atualizada'!C25 -> ESTRUTURA | F12: ='Planilia Atualizada'!H30 -> 32520.18 | G12: =$F12*G13 -> 16260.09 | H12: =$F12*H13 -> 16260.09 | I12: =$F12*I13 -> 0 | K12: =$F12*K13 -> 0 | L12: =$F12*L13 -> 0 | M12: =IF(M13=100%,F12,0) -> 32520.18
G13: 0.5 | H13: 0.5 | M13: =SUM(G13:L13) -> 1 | O13: =+#REF! -> #REF!
A14: 5 | B14: ='Planilia Atualizada'!C31 -> COBERTURA | F14: ='Planilia Atualizada'!H34 -> 44749.21 | G14: =$F14*G15 -> 0 | H14: =$F14*H15 -> 22374.605 | I14: =$F14*I15 -> 22374.605 | K14: =$F14*K15 -> 0 | L14: =$F14*L15 -> 0 | M14: =IF(M15=100%,F14,0) -> 44749.21
H15: 0.5 | I15: 0.5 | M15: =SUM(G15:L15) -> 1 | O15: =+#REF! -> #REF!
L16: =$F16*L17 -> 0
O17: =+#REF! -> #REF!
L18: =$F18*L19 -> 0
O19: =+#REF! -> #REF!
A20: 6 | B20: ='Planilia Atualizada'!C35 -> PAREDES E PAINEIS | F20: ='Planilia Atualizada'!H37 -> 5396.71 | G20: =$F20*G21 -> 2698.355 | H20: =$F20*H21 -> 2698.355 | I20: =$F20*I21 -> 0 | K20: =$F20*K21 -> 0 | L20: =$F20*L21 -> 0 | M20: =IF(M21=100%,F20,0) -> 5396.71
G21: 0.5 | H21: 0.5 | M21: =SUM(G21:L21) -> 1 | O21: =+#REF! -> #REF!
A22: 7 | B22: =+#REF! -> #REF! | F22: ='Planilia Atualizada'!H48 -> 0 | H22: =$F22*H23 -> 0 | I22: =$F22*I23 -> 0 | K22: =$F22*K23 -> 0 | L22: =$F22*L23 -> 0 | M22: =IF(M23=100%,F22,0) -> 0
H23: 1 | M23: =SUM(G23:L23) -> 1 | O23: =+#REF! -> #REF!
A24: 7 | B24: ='Planilia Atualizada'!C50 -> INSTALAÇÕES ELETRICAS | F24: ='Planilia Atualizada'!H52 -> 1828.6 | G24: =$F24*G25 -> 0 | H24: =$F24*H25 -> 0 | I24: =$F24*I25 -> 1828.6 | M24: =IF(M25=100%,F24,0) -> 1828.6
I25: 1 | M25: 1
A26: 8 | B26: ='Planilia Atualizada'!C53 -> REVESTIMENTOS | F26: ='Planilia Atualizada'!H57 -> 12399.79 | G26: =$F26*G27 -> 0 | H26: =$F26*H27 -> 6199.895 | I26: =$F26*I27 -> 6199.895 | K26: =$F26*K27 -> 0 | L26: =$F26*L27 -> 0 | M26: =IF(M27=100%,F26,0) -> 12399.79
H27: 0.5 | I27: 0.5 | M27: =SUM(G27:L27) -> 1 | O27: =+#REF! -> #REF!
A28: 9 | B28: ='Planilia Atualizada'!C58 -> PINTURA | F28: ='Planilia Atualizada'!H60 -> 1897.64 | G28: =$F28*G29 -> 0 | H28: =$F28*H29 -> 0 | I28: =$F28*I29 -> 1897.64 | K28: =$F28*K29 -> 0 | L28: =$F28*L29 -> 0 | M28: =IF(M29=100%,F28,0) -> 1897.64
I29: 1 | M29: =SUM(G29:L29) -> 1 | O29: =+#REF! -> #REF!
A30: 10 | B30: ='Planilia Atualizada'!C61 -> SERVIÇOS COMPLEMENTARES | F30: ='Planilia Atualizada'!H67 -> 781.75 | G30: =$F30*G31 -> 0 | H30: =$F30*H31 -> 0 | I30: =$F30*I31 -> 781.75 | K30: =$F30*K31 -> 0 | L30: =$F30*L31 -> 0 | M30: =IF(M31=100%,F30,0) -> 781.75
I31: 1 | M31: =SUM(G31:L31) -> 1 | O31: =+#REF! -> #REF!
G32: =$F32*G33 -> 0 | H32: =$F32*H33 -> 0 | I32: =$F32*I33 -> 0 | K32: =$F32*K33 -> 0 | L32: =$F32*L33 -> 0 | M32: =IF(M33=100%,F32,0) -> 0
M33: =SUM(G33:L33) -> 0 | O33: =+#REF! -> #REF!
G34: =$F34*G35 -> 0 | H34: =$F34*H35 -> 0 | I34: =$F34*I35 -> 0 | K34: =$F34*K35 -> 0 | L34: =$F34*L35 -> 0 | M34: =IF(M35=100%,F34,0) -> 0
M35: =SUM(G35:L35) -> 0
G36: =$F36*G37 -> 0 | H36: =$F36*H37 -> 0 | I36: =$F36*I37 -> 0 | K36: =$F36*K37 -> 0 | L36: =$F36*L37 -> 0 | M36: =IF(M37=100%,F36,0) -> 0
M37: =SUM(G37:L37) -> 0
G38: =$F38*G39 -> 0 | H38: =$F38*H39 -> 0 | I38: =$F38*I39 -> 0 | K38: =$F38*K39 -> 0 | L38: =$F38*L39 -> 0 | M38: =IF(M39=100%,F38,0) -> 0
M39: =SUM(G39:L39) -> 0
G40: =$F40*G41 -> 0 | H40: =$F40*H41 -> 0 | I40: =$F40*I41 -> 0 | K40: =$F40*K41 -> 0 | L40: =$F40*L41 -> 0 | M40: =IF(M41=100%,F40,0) -> 0
M41: =SUM(G41:L41) -> 0
G42: =$F42*G43 -> 0 | H42: =$F42*H43 -> 0 | I42: =$F42*I43 -> 0 | K42: =$F42*K43 -> 0 | L42: =$F42*L43 -> 0 | M42: =IF(M43=100%,F42,0) -> 0
M43: =SUM(G43:L43) -> 0
B44: VALOR DO PERÍODO | F44: =SUM(F6:F43) -> 118887.72 | G44: =G8+G10+G12+G14+G16+G42+G20+G22+G26+G28+G30+G32+G34+G36+G38+G40+G6+G18 -> 38272.285 | H44: =H8+H10+H12+H14+H16+H42+H20+H22+H26+H28+H30+H32+H34+H36+H38+H40+H6+H18 -> 47532.945 | I44: =I8+I10+I12+I14+I16+I42+I20+I22+I26+I28+I30+I32+I34+I36+I38+I40+I6+I18 -> 31253.89 | K44: =K8+K10+K12+K14+K16+K42+K20+K22+K26+K28+K30+K32+K34+K36+K38+K40+K6+K18 -> 0 | L44: =L8+L10+L12+L14+L16+L42+L20+L22+L26+L28+L30+L32+L34+L36+L38+L40+L6+L18 -> 0 | M44: =M8+M10+M12+M14+M16+M42+M20+M24+M22+M26+M28+M30+M32+M34+M36+M38+M40+M6+M18 -> 118887.72
B45: VALOR ACUMULADO | G45: =G44 -> 38272.285 | H45: =H44+G45 -> 85805.23 | I45: =I44+H45 -> 117059.12 | K45: =K44+J45 -> 0 | L45: =L44+K45 -> 0
B46: PERCENTUAL DO PERÍODO | G46: =(G44/$F$44) -> 0.32191958 | H46: =(H44/$F$44) -> 0.39981375 | I46: =(I44/$F$44) -> 0.26288577 | K46: =(K44/$F$44) -> 0 | L46: =(L44/$F$44) -> 0
B47: PERCENTUAL ACUMULADO | G47: =(G45/$F$44) -> 0.32191958 | H47: =(H45/$F$44) -> 0.72173333 | I47: =(I45/$F$44) -> 0.9846191 | K47: =(K45/$F$44) -> 0 | L47: =(L45/$F$44) -> 0
A48: ='Planilia Atualizada'!A71:C71 -> NOVORIZONTE-MG, 25/06/2020
A51: ='Planilia Atualizada'!A73:H73 -> VINÍCIUS MODESTO COSTA MATOS - CREA: MG219.180/D ARLEY COSTA MENDES - PREFEITO MUNICIPAL
